BEGIN:VCALENDAR
VERSION:2.0
BEGIN:VEVENT
SUMMARY:Open Day 2019
DTSTART:20190304T010000
DTEND:20190304T040000
DESCRIPTION:We warmly invite parents and future students to attend our Ope
 n Day\, where you’ll have the opportunity to experience a day in the lif
 e of our school.
LOCATION:PO Box 25 Mount Lawley WA 6929
END:VEVENT
END:VCALENDAR
