BEGIN:VCALENDAR
VERSION:2.0
BEGIN:VEVENT
SUMMARY:Fine Art at Perth College - Champagne Opening Night
DTSTART:20190405T100000
DESCRIPTION:Champagne opening night. A curated exhibition featuring \nwell
  known and emerging Western Australian artists. Doors open 6.00 pm and sal
 es from 6.30 pm
LOCATION:35 Lawley Crescent Mount Lawley WA 6050
END:VEVENT
END:VCALENDAR
